BEGIN:VCALENDAR
VERSION:2.0
PRODID:-//Whitehorse Curling Club - ECPv6.15.20//NONSGML v1.0//EN
CALSCALE:GREGORIAN
METHOD:PUBLISH
X-WR-CALNAME:Whitehorse Curling Club
X-ORIGINAL-URL:https://whitehorsecurlingclub.com
X-WR-CALDESC:Events for Whitehorse Curling Club
REFRESH-INTERVAL;VALUE=DURATION:PT1H
X-Robots-Tag:noindex
X-PUBLISHED-TTL:PT1H
BEGIN:VTIMEZONE
TZID:America/Whitehorse
BEGIN:STANDARD
TZOFFSETFROM:-0700
TZOFFSETTO:-0700
TZNAME:MST
DTSTART:20220101T000000
END:STANDARD
END:VTIMEZONE
BEGIN:VTIMEZONE
TZID:America/Toronto
BEGIN:DAYLIGHT
TZOFFSETFROM:-0500
TZOFFSETTO:-0400
TZNAME:EDT
DTSTART:20220313T070000
END:DAYLIGHT
BEGIN:STANDARD
TZOFFSETFROM:-0400
TZOFFSETTO:-0500
TZNAME:EST
DTSTART:20221106T060000
END:STANDARD
BEGIN:DAYLIGHT
TZOFFSETFROM:-0500
TZOFFSETTO:-0400
TZNAME:EDT
DTSTART:20230312T070000
END:DAYLIGHT
BEGIN:STANDARD
TZOFFSETFROM:-0400
TZOFFSETTO:-0500
TZNAME:EST
DTSTART:20231105T060000
END:STANDARD
BEGIN:DAYLIGHT
TZOFFSETFROM:-0500
TZOFFSETTO:-0400
TZNAME:EDT
DTSTART:20240310T070000
END:DAYLIGHT
BEGIN:STANDARD
TZOFFSETFROM:-0400
TZOFFSETTO:-0500
TZNAME:EST
DTSTART:20241103T060000
END:STANDARD
END:VTIMEZONE
BEGIN:VEVENT
DTSTART;VALUE=DATE:20230317
DTEND;VALUE=DATE:20230320
DTSTAMP:20260425T171658
CREATED:20230214T005714Z
LAST-MODIFIED:20230318T000439Z
UID:931-1679011200-1679270399@whitehorsecurlingclub.com
SUMMARY:69th International Bonspiel
DESCRIPTION:Come Join the Fun! Great curling\, food & prizes! \nMen’s\, Women’s & Yukon Mixed (at least one member of the opposite sex) \nLive Music – Catered Dinner – Concession – Cash Prizes – Door Prizes – Silent Auction Table – 50/50 Draws \nLive Music Friday & Saturday from 8:30 PM to 12:30 AM
URL:https://whitehorsecurlingclub.com/events/69th-international-bonspiel/
LOCATION:Whitehorse Curling Club\, 1-300 Sumanik Drive\, Whitehorse\, Yukon\, y1a 6j6\, Canada
ORGANIZER;CN="Whitehorse Curling Club":MAILTO:info@whitehorsecurlingclub.com
END:VEVENT
BEGIN:VEVENT
DTSTART;VALUE=DATE:20230226
DTEND;VALUE=DATE:20230227
DTSTAMP:20260425T171658
CREATED:20230209T213549Z
LAST-MODIFIED:20230209T213549Z
UID:919-1677369600-1677455999@whitehorsecurlingclub.com
SUMMARY:2023 Henning Hansen Family Funspiel
DESCRIPTION:Registration Deadline: 12:00 PM\,  Wednesday February 22nd\, 2023 \nAll teams should have at least one person under 15. \n“Northern” families are welcome (Cousins\, Aunts\, Uncles etc.). \nSign up in person at the Whitehorse Curling Club or email: jeffreycyre@gmail.com \n9:00 AM to 4:00 PM \nRegistration opens at 8:45 AM \nDraws will be made according to the abilities of the teams. \nRegistration includes: \n\n3 games\nLunch\nAdult Curling Boot Camp on February 18th
URL:https://whitehorsecurlingclub.com/events/2023-henning-hansen-family-funspiel/
LOCATION:Whitehorse Curling Club\, 1-300 Sumanik Drive\, Whitehorse\, Yukon\, y1a 6j6\, Canada
ORGANIZER;CN="Whitehorse Curling Club":MAILTO:info@whitehorsecurlingclub.com
END:VEVENT
BEGIN:VEVENT
DTSTART;VALUE=DATE:20230211
DTEND;VALUE=DATE:20230213
DTSTAMP:20260425T171658
CREATED:20230202T014838Z
LAST-MODIFIED:20230210T202751Z
UID:900-1676073600-1676246399@whitehorsecurlingclub.com
SUMMARY:2023 Tetra Tech Sportsman's Bonspiel
DESCRIPTION:Welcome to Men’s teams of all experience levels\n5-6 end games\nSaturday banquet included\nSkills competition for prizes\nRegister & pay online at:  https://bit.ly/3wLi0UP or sign-up at the club & pay before you play\nRegistration table will be set-up in the Eleventh End Lounge Saturday morning from 9:00 AM to 11:00 AM to pay entry fees\, receive event information\, sign necessary waivers (if necessary)\, and to receive banquet tickets.\nFor questions\, comments & concerns\, please contact Bob Walker – (867) 335-4306\n2023 Sportsman Spiel Draw \n  \n  \n 
URL:https://whitehorsecurlingclub.com/events/2023-tetra-tech-sportsmans-bonspiel/
LOCATION:Whitehorse Curling Club\, 1-300 Sumanik Drive\, Whitehorse\, Yukon\, y1a 6j6\, Canada
ORGANIZER;CN="Whitehorse Curling Club":MAILTO:info@whitehorsecurlingclub.com
END:VEVENT
END:VCALENDAR